BEGIN:VCALENDAR
VERSION:2.0
PRODID:icalendar-ruby
CALSCALE:GREGORIAN
METHOD:PUBLISH
BEGIN:VEVENT
DTSTAMP:20260424T214930Z
UID:6-672356@collegeparkva.com
DTSTART:20261101T151500Z
DTEND:20261101T163000Z
CLASS:PUBLIC
CREATED:20260424T161001
DESCRIPTION:Join us as we worship together through song\, communion\, praye
 r\, and the study of God's word. 
LAST-MODIFIED:20260424T161001
LOCATION:
SUMMARY:Sunday Worship
URL;VALUE=URI:https://www.collegeparkva.com/events/sunday-worship--6/2026-1
 1-01
END:VEVENT
END:VCALENDAR
