BEGIN:VCALENDAR
VERSION:2.0
PRODID:icalendar-ruby
CALSCALE:GREGORIAN
METHOD:PUBLISH
BEGIN:VEVENT
DTSTAMP:20260424T145629Z
UID:6-671430@collegeparkva.com
DTSTART:20261004T141500Z
DTEND:20261004T153000Z
CLASS:PUBLIC
CREATED:20260424T103518
DESCRIPTION:Join us as we worship together through song\, communion\, praye
 r\, and the study of God's word. 
LAST-MODIFIED:20260424T103518
LOCATION:
SUMMARY:Sunday Worship
URL;VALUE=URI:https://www.collegeparkva.com/events/sunday-worship--6/2026-1
 0-04
END:VEVENT
END:VCALENDAR
