BEGIN:VCALENDAR
VERSION:2.0
PRODID:icalendar-ruby
CALSCALE:GREGORIAN
METHOD:PUBLISH
BEGIN:VEVENT
DTSTAMP:20260424T095236Z
UID:6-670505@collegeparkva.com
DTSTART:20260913T141500Z
DTEND:20260913T153000Z
CLASS:PUBLIC
CREATED:20260423T221322
DESCRIPTION:Join us as we worship together through song\, communion\, praye
 r\, and the study of God's word. 
LAST-MODIFIED:20260423T221322
LOCATION:
SUMMARY:Sunday Worship
URL;VALUE=URI:https://www.collegeparkva.com/events/sunday-worship--6/2026-0
 9-13
END:VEVENT
END:VCALENDAR
