BEGIN:VCALENDAR
VERSION:2.0
PRODID:icalendar-ruby
CALSCALE:GREGORIAN
METHOD:PUBLISH
BEGIN:VEVENT
DTSTAMP:20260421T141233Z
UID:6-663116@collegeparkva.com
DTSTART:20260621T141500Z
DTEND:20260621T153000Z
CLASS:PUBLIC
CREATED:20260421T100546
DESCRIPTION:Join us as we worship together through song\, communion\, praye
 r\, and the study of God's word. 
LAST-MODIFIED:20260421T100546
LOCATION:
SUMMARY:Sunday Worship
URL;VALUE=URI:https://www.collegeparkva.com/events/sunday-worship--6/2026-0
 6-21
END:VEVENT
END:VCALENDAR
